BEGIN:VCALENDAR
VERSION:2.0
PRODID:-//Virginia - ECPv6.15.17.1//NONSGML v1.0//EN
CALSCALE:GREGORIAN
METHOD:PUBLISH
X-WR-CALNAME:Virginia
X-ORIGINAL-URL:https://www.iiav.com
X-WR-CALDESC:Events for Virginia
REFRESH-INTERVAL;VALUE=DURATION:PT1H
X-Robots-Tag:noindex
X-PUBLISHED-TTL:PT1H
BEGIN:VTIMEZONE
TZID:UTC
BEGIN:STANDARD
TZOFFSETFROM:+0000
TZOFFSETTO:+0000
TZNAME:UTC
DTSTART:20250101T000000
END:STANDARD
END:VTIMEZONE
BEGIN:VEVENT
DTSTART;TZID=UTC:20260609T083000
DTEND;TZID=UTC:20260611T163000
DTSTAMP:20260425T113136
CREATED:20260224T190722Z
LAST-MODIFIED:20260310T144117Z
UID:10000001-1780993800-1781195400@www.iiav.com
SUMMARY:Property & Casualty Pre-Licensing (Classroom) 06/09/2026-06/11/2026
DESCRIPTION:The insurance licensing exam consists of complex information\, technical details\, and legal and regulatory information. During this course you will take a deep dive into all aspects of the exam. Additionally\, materials include practice tests and opportunities to assess your understanding of the material throughout the course. This course will leave you feeling not only informed but well-prepared for the state licensing exam. Success tip: Get the book prior to the class\, read through it\, make notes\, and jot down questions. This will enable you to use your time in class as a review and ask questions of the instructor\, giving you additional preparation time and a better understanding of the content. Just select “Book Shipping” on the registration form and we’ll take care of the rest! Instructor: Scott McKee
URL:https://www.iiav.com/event/property-casualty-pre-licensing-classroom-06-09-2026-06-11-2026/
LOCATION:Independent Insurance Agents of Virginia\, 8600 Mayland Drive\, Richmond\, VA\, 23294\, United States
ORGANIZER;CN="Independent Insurance Agents of Virginia":MAILTO:members@iiav.com
END:VEVENT
BEGIN:VEVENT
DTSTART;TZID=UTC:20260610T090000
DTEND;TZID=UTC:20260610T120000
DTSTAMP:20260425T113136
CREATED:20260224T192100Z
LAST-MODIFIED:20260310T143033Z
UID:10000010-1781082000-1781092800@www.iiav.com
SUMMARY:E&O Risk Management: E&O Coverage Essentials: Certificates of Insurance (COIs) and Evidences of Commercial Property Insurance (ECPIs) (Webinar) 06/10/2026
DESCRIPTION:PLEASE NOTE – THIS CLASS IS APPROVED FOR PREMIUM DISCOUNTS WITH SWISS RE.  IF YOUR STATE HAS AN ACTION ITEM FOR YOU AFTER COMPLETING THE CLASS\, IT WILL BE INCLUDED IN THE HANDOUTS/MATERIALS SECTION! Certificates of Insurance (COIs) and Evidences of Commercial Property Insurance (ECPIs) are intended to be nothing more than proof that certain types of insurance coverages exist. In theoretical terms\, COIs and ECPIs do nothing to alter or even effectuate coverage – but neither lawyers nor risk managers seem to believe or accept this reality. •Agents face pressure from these third-party holders and their clients to possibly commit fraud simply to allow the holder to check a box and the client to get paid. Third party certificate holders want to force wording on certificates that may or may not be supported by the policy language. Obviously\, the “easy way” is to insert information that isn’t true simply to avoid the fight and the pressure – just to make the demand “go away.” This is where errors and omissions (E&O) claims are born. •Never\, never put information on either a COI or ECPI that is not and cannot be supported by policy language. Because these documents are nothing more than single-page evidence that a policy exists\, no information contained within them should be forced by an outside party. \n\nNever tire of doing what is right. The problems that appear to be caused by COI and ECPI requests are functionally the result of flaws and gaps in the insurance program placed for the insured.\nIn reality\, what the COI and ECPI holder want is for their contractor or sub-contractor to have specific insurance coverages evidenced by these documents. If the coverages can be placed\, no problem; if the coverages cannot be placed DO NOT say they exist on the COI or ECPI.\nBut even though some COI and ECPI issues can be “fixed” with changes to the insurance program\, there are some wording requests that can NEVER be honored. This session focuses on both sides; what can be fixed\, what may not be fixable\, and what should NEVER be stated on a COI or ECPI.\nBuckle up! This is a “fun” ride.\n\nCourse #227934| 3 OGI | Instructor: Brian Ross
URL:https://www.iiav.com/event/eo-risk-management-eo-coverage-essentials-certificates-of-insurance-cois-and-evidences-of-commercial-property-insurance-ecpis-webinar-06-10-2026/
LOCATION:Independent Insurance Agents of Virginia\, 8600 Mayland Drive\, Richmond\, VA\, 23294\, United States
ORGANIZER;CN="Independent Insurance Agents of Virginia":MAILTO:members@iiav.com
END:VEVENT
END:VCALENDAR