BEGIN:VCALENDAR
VERSION:2.0
PRODID:-//Virginia - ECPv6.15.17.1//NONSGML v1.0//EN
CALSCALE:GREGORIAN
METHOD:PUBLISH
X-WR-CALNAME:Virginia
X-ORIGINAL-URL:https://www.iiav.com
X-WR-CALDESC:Events for Virginia
REFRESH-INTERVAL;VALUE=DURATION:PT1H
X-Robots-Tag:noindex
X-PUBLISHED-TTL:PT1H
BEGIN:VTIMEZONE
TZID:UTC
BEGIN:STANDARD
TZOFFSETFROM:+0000
TZOFFSETTO:+0000
TZNAME:UTC
DTSTART:20250101T000000
END:STANDARD
END:VTIMEZONE
BEGIN:VEVENT
DTSTART;TZID=UTC:20260408T090000
DTEND;TZID=UTC:20260408T120000
DTSTAMP:20260421T180750
CREATED:20260224T191816Z
LAST-MODIFIED:20260310T145541Z
UID:10000008-1775638800-1775649600@www.iiav.com
SUMMARY:E&O Risk Management: Coverage Essentials: HO Part II (Webinar) 04/08/2026
DESCRIPTION:PLEASE NOTE – THIS CLASS IS APPROVED FOR PREMIUM DISCOUNTS WITH SWISS RE.  IF YOUR STATE HAS AN ACTION ITEM FOR YOU AFTER COMPLETING THE CLASS\, IT WILL BE INCLUDED IN THE HANDOUTS/MATERIALS SECTION! Coverage Essentials: Homeowners Coverage Part II is now available! This new course provides learners with a solid start in evaluating the need and placing this important coverage. Additionally\, some claims examples and E&O avoidance tips are covered in the course and course guide. The Homeowners Coverage Part I module covers these and other objectives: \n\nExplain the importance of correct valuation of property\nBe able to explain the difference between replacement cost and actual cash value\nUnderstand how Section I Condition “Loss Settlement” provisions can affect loss\nUnderstand the endorsements available to modify valuation provisions in the policy\n\nCourse #227932| 3 OGI | Instructor: Brian Ross
URL:https://www.iiav.com/event/eo-risk-management-coverage-essentials-ho-part-ii-webinar-04-08-2026/
LOCATION:Independent Insurance Agents of Virginia\, 8600 Mayland Drive\, Richmond\, VA\, 23294\, United States
ORGANIZER;CN="Independent Insurance Agents of Virginia":MAILTO:members@iiav.com
END:VEVENT
BEGIN:VEVENT
DTSTART;TZID=UTC:20260407T083000
DTEND;TZID=UTC:20260409T163000
DTSTAMP:20260421T180750
CREATED:20260224T192938Z
LAST-MODIFIED:20260310T150841Z
UID:10000017-1775550600-1775752200@www.iiav.com
SUMMARY:Property & Casualty Pre-Licensing (Classroom) 04/07/2026-04/09/2026
DESCRIPTION:The insurance licensing exam consists of complex information\, technical details\, and legal and regulatory information. During this course you will take a deep dive into all aspects of the exam. Additionally\, materials include practice tests and opportunities to assess your understanding of the material throughout the course. This course will leave you feeling not only informed but well-prepared for the state licensing exam. Success tip: Get the book prior to the class\, read through it\, make notes\, and jot down questions. This will enable you to use your time in class as a review and ask questions of the instructor\, giving you additional preparation time and a better understanding of the content. Just select “Book Shipping” on the registration form and we’ll take care of the rest!  Instructor: Scott McKee
URL:https://www.iiav.com/event/property-casualty-pre-licensing-classroom-04-07-2026-04-09-2026/
LOCATION:Independent Insurance Agents of Virginia\, 8600 Mayland Drive\, Richmond\, VA\, 23294\, United States
ORGANIZER;CN="Independent Insurance Agents of Virginia":MAILTO:members@iiav.com
END:VEVENT
BEGIN:VEVENT
DTSTART;TZID=UTC:20260326T083000
DTEND;TZID=UTC:20260326T163000
DTSTAMP:20260421T180750
CREATED:20260224T193201Z
LAST-MODIFIED:20260310T150931Z
UID:10000018-1774513800-1774542600@www.iiav.com
SUMMARY:CRIS: Property Insurance for Contractors (Classroom Off-Site) 03/26/2026
DESCRIPTION:This course—Property Insurance for Contractors—examines the coverage provided by three types of property insurance policies: commercial property policies\, builders risk policies\, and contractors equipment policies. Commercial property policies provide insurance on existing buildings and their contents. The contractor purchases this type of policy to respond to loss or damage in connection with its own facilities. Builders risk policies provide insurance on property being constructed\, installed\, altered\, or repaired. The builders risk policy for each project may be purchased by either the contractor or the project owner. Contractors equipment policies provide insurance on the mobile equipment that is used in construction activities. They are purchased by the contractor as the owner (or lessor) of the equipment. The course also briefly overviews two other types of property insurance policies that contractors may need: commercial crime policy and equipment breakdown policy. This is an intermediate course. Prerequisites:  a basic understanding of property insurance is required. Upon completion of this course\, you will be prepared to: recognize the key property loss exposures that contractors face and identify the type of insurance policy that addresses each of these loss exposures; recognize the types of property that are covered and excluded from coverage\, what locations are covered\, and other key direct damage policy provisions under a commercial property policy; recognize the various time element loss exposures that contractors face\, the type of time element coverage that addresses each of these loss exposures\, and a given contractor’s time element loss exposures; distinguish between commercial property insurance and builders risk insurance and identify the advantages of insuring property under construction under a builders risk policy; recognize the locations and types of property that typically are covered under a builders risk policy\, the exclusions found in a typical builders risk policy\, and other key direct damage builders risk policy provisions; recognize the types of property that are typically covered and excluded from coverage under a contractors equipment policy\, distinguish between blanket and scheduled contractors equipment\, and identify the exclusions and limitations that are found in most all risks contractors equipment policies; identify the most important commercial crime coverages for contractors; and recognize why a contractor might want to purchase equipment breakdown insurance and what types of equipment are covered by this type of insurance. \nCourse #228820 | 7 P&C | Instructor: Carlton Gill \nIIAV Partners with Kinsale Insurance Company to host these events at their local office. \nTheir office is located at 2025 Staples Mill Road\, Richmond\, VA.
URL:https://www.iiav.com/event/cris-property-insurance-for-contractors-classroom-off-site-03-24-2026/
LOCATION:Kinsale Insurance Company\, 2025 Staples Mill Road\, Richmond\, United States
ORGANIZER;CN="Independent Insurance Agents of Virginia":MAILTO:members@iiav.com
END:VEVENT
BEGIN:VEVENT
DTSTART;TZID=UTC:20260311T090000
DTEND;TZID=UTC:20260311T120000
DTSTAMP:20260421T180750
CREATED:20260224T191400Z
LAST-MODIFIED:20260224T200936Z
UID:10000007-1773219600-1773230400@www.iiav.com
SUMMARY:E&O Risk Management: Coverage Essentials: Homeowners Coverage Part I (Webinar) 03/11/202
DESCRIPTION:PLEASE NOTE – THIS CLASS IS APPROVED FOR PREMIUM DISCOUNTS WITH SWISS RE.  IF YOUR STATE HAS AN ACTION ITEM FOR YOU AFTER COMPLETING THE CLASS\, IT WILL BE INCLUDED IN THE HANDOUTS/MATERIALS SECTION! Coverage Essentials: Homeowners Coverage Part I is now available! This new course provides learners with a solid start in evaluating the need and placing this important coverage. Additionally\, some claims examples and E&O avoidance tips are covered in the course and course guide. The Homeowners Coverage Part I module covers these and other objectives: Understanding the difference between the Homeowners coverage forms Able to explain the basic eligibility rules which apply to each Homeowners form Able to explain the importance of accuracy with writing new Homeowners policies Learn to recognize situations that require additional interests to be named in the policy Course \n#227550 | 3 OGI | Instructor: Brian Ross
URL:https://www.iiav.com/event/life-health-pre-licensing-classroom-11-18-2026-11-20-2026/
LOCATION:Independent Insurance Agents of Virginia\, 8600 Mayland Drive\, Richmond\, VA\, 23294\, United States
ORGANIZER;CN="Independent Insurance Agents of Virginia":MAILTO:members@iiav.com
END:VEVENT
END:VCALENDAR