BEGIN:VCALENDAR
VERSION:2.0
PRODID:-//Virginia - ECPv6.15.17.1//NONSGML v1.0//EN
CALSCALE:GREGORIAN
METHOD:PUBLISH
X-WR-CALNAME:Virginia
X-ORIGINAL-URL:https://www.iiav.com
X-WR-CALDESC:Events for Virginia
REFRESH-INTERVAL;VALUE=DURATION:PT1H
X-Robots-Tag:noindex
X-PUBLISHED-TTL:PT1H
BEGIN:VTIMEZONE
TZID:UTC
BEGIN:STANDARD
TZOFFSETFROM:+0000
TZOFFSETTO:+0000
TZNAME:UTC
DTSTART:20250101T000000
END:STANDARD
END:VTIMEZONE
BEGIN:VEVENT
DTSTART;TZID=UTC:20260408T090000
DTEND;TZID=UTC:20260408T120000
DTSTAMP:20260422T114410
CREATED:20260224T191816Z
LAST-MODIFIED:20260310T145541Z
UID:10000008-1775638800-1775649600@www.iiav.com
SUMMARY:E&O Risk Management: Coverage Essentials: HO Part II (Webinar) 04/08/2026
DESCRIPTION:PLEASE NOTE – THIS CLASS IS APPROVED FOR PREMIUM DISCOUNTS WITH SWISS RE.  IF YOUR STATE HAS AN ACTION ITEM FOR YOU AFTER COMPLETING THE CLASS\, IT WILL BE INCLUDED IN THE HANDOUTS/MATERIALS SECTION! Coverage Essentials: Homeowners Coverage Part II is now available! This new course provides learners with a solid start in evaluating the need and placing this important coverage. Additionally\, some claims examples and E&O avoidance tips are covered in the course and course guide. The Homeowners Coverage Part I module covers these and other objectives: \n\nExplain the importance of correct valuation of property\nBe able to explain the difference between replacement cost and actual cash value\nUnderstand how Section I Condition “Loss Settlement” provisions can affect loss\nUnderstand the endorsements available to modify valuation provisions in the policy\n\nCourse #227932| 3 OGI | Instructor: Brian Ross
URL:https://www.iiav.com/event/eo-risk-management-coverage-essentials-ho-part-ii-webinar-04-08-2026/
LOCATION:Independent Insurance Agents of Virginia\, 8600 Mayland Drive\, Richmond\, VA\, 23294\, United States
ORGANIZER;CN="Independent Insurance Agents of Virginia":MAILTO:members@iiav.com
END:VEVENT
END:VCALENDAR