BEGIN:VCALENDAR
VERSION:2.0
PRODID:-//Virginia - ECPv6.15.17.1//NONSGML v1.0//EN
CALSCALE:GREGORIAN
METHOD:PUBLISH
X-ORIGINAL-URL:https://www.iiav.com
X-WR-CALDESC:Events for Virginia
REFRESH-INTERVAL;VALUE=DURATION:PT1H
X-Robots-Tag:noindex
X-PUBLISHED-TTL:PT1H
BEGIN:VTIMEZONE
TZID:UTC
BEGIN:STANDARD
TZOFFSETFROM:+0000
TZOFFSETTO:+0000
TZNAME:UTC
DTSTART:20250101T000000
END:STANDARD
END:VTIMEZONE
BEGIN:VEVENT
DTSTART;TZID=UTC:20260812T083000
DTEND;TZID=UTC:20260814T163000
DTSTAMP:20260421T212542
CREATED:20260224T191317Z
LAST-MODIFIED:20260310T135507Z
UID:10000006-1786523400-1786725000@www.iiav.com
SUMMARY:Life & Health Pre-Licensing (Classroom) 08/12/2026-08/14/2026
DESCRIPTION:The insurance licensing exam consists of complex information\, technical details\, and legal and regulatory information. During this course you will take a deep dive into all aspects of the exam. Additionally\, materials include practice tests and opportunities to assess your understanding of the material throughout the course. This course will leave you feeling not only informed but well-prepared for the state licensing exam. Instructor: Rod Powell Success tip: Get the book prior to the class\, read through it\, make notes\, and jot down questions. This will enable you to use your time in class as a review and ask questions of the instructor\, giving you additional preparation time and a better understanding of the content. Just select “Book Shipping” on the registration form and we’ll take care of the rest!
URL:https://www.iiav.com/event/life-health-pre-licensing-classroom-08-12-2026-08-14-2026/
LOCATION:Independent Insurance Agents of Virginia\, 8600 Mayland Drive\, Richmond\, VA\, 23294\, United States
ORGANIZER;CN="Independent Insurance Agents of Virginia":MAILTO:members@iiav.com
END:VEVENT
END:VCALENDAR